BEGIN:VCALENDAR
VERSION:2.0
PRODID:-//janun.de//
BEGIN:VEVENT
SUMMARY:Fortbildung: Zeit- und Selbstorganisation
DTSTART:20251024T080000Z
DTEND:20251024T150000Z
DTSTAMP:20251007T125216Z
UID:fortbildung-selbst-und-zeitorganisation@janun.de
DESCRIPTION:Projektwerkstatt JANUN
URL:https://www.janun.de/de/veranstaltungen/fortbildung-selbst-und-zeitorg
 anisation/
END:VEVENT
END:VCALENDAR
