BEGIN:VCALENDAR
VERSION:2.0
PRODID:-//janun.de//
BEGIN:VEVENT
SUMMARY:Malawi-Projektwochenende
DTSTART;VALUE=DATE:20260421
DTEND;VALUE=DATE:20260421
DTSTAMP:20260421T100623Z
UID:malawi-projektwochenende@janun.de
DESCRIPTION:Im Austausch Projekte entwickeln lernen! Seit Januar treffen w
 ir uns alle drei Wochen online mit jungen Umweltaktivist*innen in Malawi f
 ür gemeinsame Workshops. Vom 24. –…
URL:https://www.janun.de/de/veranstaltungen/malawi-projektwochenende/
END:VEVENT
END:VCALENDAR
