BEGIN:VCALENDAR
VERSION:2.0
PRODID:-//janun.de//
BEGIN:VEVENT
SUMMARY:Nordsee\, Wattenmeer und Insel erleben Neuwerk
DTSTART:20260521T220000Z
DTEND:20260526T220000Z
DTSTAMP:20260421T120831Z
UID:nordsee-wattenmeer-und-insel-erleben-neuwerk@janun.de
DESCRIPTION:Naturpädagogische Fortbildung
URL:https://www.janun.de/de/veranstaltungen/nordsee-wattenmeer-und-insel-e
 rleben-neuwerk/
END:VEVENT
END:VCALENDAR
