BEGIN:VCALENDAR
VERSION:2.0
PRODID:-//janun.de//
BEGIN:VEVENT
SUMMARY:Outdoor-Erste-Hilfe-Kurs
DTSTART:20260424T220000Z
DTEND:20260425T220000Z
DTSTAMP:20260227T140155Z
UID:outdoor-erste-hilfe-kurs-6@janun.de
DESCRIPTION:In diesem Kurs geht es um das Erlernen von Maßnahmen\, die Ve
 rletzten helfen\, die nicht umgehend dem Rettungsdienst übergeben werden 
 können. In der Stadt ist…
URL:https://www.janun.de/de/veranstaltungen/outdoor-erste-hilfe-kurs-6/
END:VEVENT
END:VCALENDAR
