BEGIN:VCALENDAR
VERSION:2.0
PRODID:-//janun.de//
BEGIN:VEVENT
SUMMARY:summer gathering in the forestgarden
DTSTART:20260608T100000Z
DTEND:20260615T190000Z
DTSTAMP:20260422T083946Z
UID:summer-gathering-in-the-forestgarden-2@janun.de
DESCRIPTION:**(english below)** Vom **8.-15.6.** öffnen wir unsere Waldga
 rtentore für interessierte Menschen\, die Lust haben\, mit uns zu arbeite
 n\, lernen\, essen\, lachen… und was ihr so…
URL:https://www.janun.de/de/veranstaltungen/summer-gathering-in-the-forest
 garden-2/
END:VEVENT
END:VCALENDAR
